BEGIN:VCALENDAR
VERSION:2.0
PRODID:-//East Caribbean Conference of Seventh-day Adventists - ECPv6.15.20//NONSGML v1.0//EN
CALSCALE:GREGORIAN
METHOD:PUBLISH
X-WR-CALNAME:East Caribbean Conference of Seventh-day Adventists
X-ORIGINAL-URL:https://eastcarib-preview.hostawebsite.com
X-WR-CALDESC:Events for East Caribbean Conference of Seventh-day Adventists
REFRESH-INTERVAL;VALUE=DURATION:PT1H
X-Robots-Tag:noindex
X-PUBLISHED-TTL:PT1H
BEGIN:VTIMEZONE
TZID:America/Barbados
BEGIN:STANDARD
TZOFFSETFROM:-0400
TZOFFSETTO:-0400
TZNAME:AST
DTSTART:20240101T000000
END:STANDARD
END:VTIMEZONE
BEGIN:VEVENT
DTSTART;TZID=America/Barbados:20250420T000000
DTEND;TZID=America/Barbados:20250420T235959
DTSTAMP:20260422T075103
CREATED:20250222T210940Z
LAST-MODIFIED:20250228T234834Z
UID:3676-1745107200-1745193599@eastcarib-preview.hostawebsite.com
SUMMARY:Adventist Possibility Ministries Fun Day
DESCRIPTION:
URL:https://eastcarib-preview.hostawebsite.com/event/adventist-possibility-ministries-fun-day/
LOCATION:Dominica
CATEGORIES:APM
END:VEVENT
END:VCALENDAR